BEGIN:VCALENDAR
VERSION:2.0
PRODID:-//AU Schedule - ECPv6.9.0//NONSGML v1.0//EN
CALSCALE:GREGORIAN
METHOD:PUBLISH
X-WR-CALNAME:AU Agenda
X-ORIGINAL-URL:https://au-agenda.com
X-WR-CALDESC:Events for AU Schedule
REFRESH-INTERVAL;VALUE=DURATION:PT1H
X-Robots-Tag:noindex
X-PUBLISHED-TTL:PT1H
BEGIN:VTIMEZONE
TZID:Europe/Madrid
BEGIN:DAYLIGHT
TZOFFSETFROM:+0100
TZOFFSETTO:+0200
TZNAME:CEST
DTSTART:20260329T010000
END:DAYLIGHT
BEGIN:STANDARD
TZOFFSETFROM:+0200
TZOFFSETTO:+0100
TZNAME:CET
DTSTART:20261025T010000
END:STANDARD
END:VTIMEZONE
BEGIN:VEVENT
DTSTART;TZID=Europe/Madrid:20260602T170000
DTEND;TZID=Europe/Madrid:20260602T170000
DTSTAMP:20260421T234918
CREATED:20260421T071215Z
LAST-MODIFIED:20260421T071215Z
UID:314411-1780419600-1780419600@au-agenda.com
SUMMARY:Heroes and Heroines: Atomic (David Leitch\, 2017)
DESCRIPTION:Si el protagonista d’una pel·lícula és el personatge cap al qual el públic dirigix la seua atenció\, els protagonistes més atractius són els de naturalesa heroica\, because his charismatic condition favors sympathy and admiration on the part of spectators. De Guilgameix a James Bond\, d’Ulisses a Harry Potter\, d’Atalanta a Wonder Woman o Lara Croft\, herois i heroïnes han sigut grans protagonistes de la narrativa universal a través d’epopeies clàssiques\, cantars de gesta\, novel·les\, còmics\, pel·lícules\, sèries de televisió i\, fins i tot\, video games. This new cycle of the Museum of Fine Arts of Valencia offers seven significant examples where men or women embody this exemplary model of integrating mythological origin and constant renewal. The sessions of this year's second film cycle will take place between April and June 2026 according to the following calendar:\nDimarts 21 abril\, 17:00 h.\nTarzán y su compañera (Cedric Gibbons\, 1934) \nDimarts 28 abril\, 17:00 h.\nRobin de los bosques (Michael Curtiz & William Keighley\, 1938) \nDimarts 5 maig\, 17:00 h.\nAgustina de Aragón (Juan de Orduña\, 1950)tuesday 12 maig\, 17:00 h.\nHigh Noon (Fred Zinneman\, 1952) \nDimarts 19 maig\, 17:00 h\nAlien (Ridley Scott\, 1979) \nDimarts 26 maig\, 17:00 h\nUna chica vuelve a casa sola de noche (Ana Lily Amirpour\, 2014) \nDimarts 2 juny\, 17:00 h\nAtómica (David Leitch\, 2017) \n\n\n\nTotes les sessions tindran lloc al Saló d’actes del Museu de Belles Arts de València\, amb presentació\, comments and debate by the professors. Teresa Sorolla (Jaume I University of Castelló) i Carlos Cuéllar (University of Valencia). The films will be screened in their original version with subtitles. Free access until capacity is reached.
URL:https://au-agenda.com/evento/herois-i-heroines-atomica-david-leitch-2017/
LOCATION:Museu BB.AA.\, Sant Pius V\, 9\, Valencia\, Valencia\, 46010\, España
CATEGORIES:Cinema
ATTACH;FMTTYPE=image/png:https://au-agenda.com/wp-content/uploads/2026/04/Captura-de-Pantalla-2026-04-21-a-las-9.08.02.png
END:VEVENT
END:VCALENDAR