BEGIN:VCALENDAR
VERSION:2.0
PRODID:-//AU Agenda - ECPv6.9.0//NONSGML v1.0//EN
CALSCALE:GREGORIAN
METHOD:PUBLISH
X-WR-CALNAME:AU Agenda
X-ORIGINAL-URL:https://au-agenda.com
X-WR-CALDESC:Eventos para AU Agenda
REFRESH-INTERVAL;VALUE=DURATION:PT1H
X-Robots-Tag:noindex
X-PUBLISHED-TTL:PT1H
BEGIN:VTIMEZONE
TZID:Europe/Madrid
BEGIN:DAYLIGHT
TZOFFSETFROM:+0100
TZOFFSETTO:+0200
TZNAME:CEST
DTSTART:20260329T010000
END:DAYLIGHT
BEGIN:STANDARD
TZOFFSETFROM:+0200
TZOFFSETTO:+0100
TZNAME:CET
DTSTART:20261025T010000
END:STANDARD
END:VTIMEZONE
BEGIN:VEVENT
DTSTART;TZID=Europe/Madrid:20260411T100000
DTEND;TZID=Europe/Madrid:20260628T200000
DTSTAMP:20260421T194212
CREATED:20260414T145919Z
LAST-MODIFIED:20260414T145919Z
UID:314032-1775901600-1782676800@au-agenda.com
SUMMARY:Guillermo Alarcón. Matèria\, màquina\, memòria
DESCRIPTION:El Museu d’Història de València\, MHV\, oferix fins el pròxim mes de juny l’exposició Guillermo Alarcón. Matèria\, màquina\, memòria\, un recorregut per l’obra del fotògraf valencià (1957–2019) que ha estat comissariada per l’especialista en art Ana Gandia Casasnovas. La mostra oferix una àmplia selecció d’obres en blanc i negre de l’autor i\, tal com han subratllat els promotors\, planteja un trànsit per elles a partir de la tensió entre la mirada humana i la lògica de la màquina. De fet\, l’exposició no seguix una narrativa lineal\, sinó que s’articula en un recorregut circular que s’assenta sobre els tres eixos conceptuals del títol: Matèria: l’empremta del fer; Màquina: orde i ritme; i Memòria: el silenci del treball. Tots estos conceptes dialoguen entre si i conviden les persones que visiten la mostra a una construcció activa del significat. \nLa proposta expositiva reflectix la transformació que planteja Alarcón d’espais industrials i estructures metàl·liques en escenaris d’intensa càrrega visual i simbòlica. Les seues imatges proposen una aproximació poètica a la matèria\, al silenci i a la geometria d’allòproductiu. \nEl primer àmbit\, dedicat a la matèria\, titulat ‘L’empremta del fer’\, posa en valor els elements físics de l’entorn industrial: metall\, pedra\, pols o fum. Les fotografies d’Alarcón revelen la textura i densitat d’estos materials\, dotant-los d’una presència quasi escultòrica. El segon espai\, protagonitzat per la màquina\, i titulat ‘Orde i ritme’ planteja el paral·lelisme entre l’ull del fotògraf i el de l’enginyer\, amb composicions que destaquen per línies\, ritmes i repeticions que responen a la lògica del sistema industrial. Finalment\, l’apartat Memòria: ‘El silenci del treball’ reflexiona sobre el pas del temps i\, en ell\, fàbriques buides i tallers en desús es convertixen en “llocs callats” on l’absència d’activitat transforma l’espai en un arxiu de memòria latent. La imatge fotogràfica no sols preserva\, sinó que reactiva el record d’estos territoris més enllà de la funció original.
URL:https://au-agenda.com/evento/guillermo-alarcon-materia-maquina-memoria/
LOCATION:Museu d’Historia\, València\, 42\, Mislata\, Valencia\, 46920\, España
CATEGORIES:Exposiciones
ATTACH;FMTTYPE=image/jpeg:https://au-agenda.com/wp-content/uploads/2026/04/0412-Exposicio-MHV-Guillermo-Alarcon-1.jpg
END:VEVENT
END:VCALENDAR