BEGIN:VCALENDAR
VERSION:2.0
PRODID:-//AU Schedule - ECPv6.9.0//NONSGML v1.0//EN
CALSCALE:GREGORIAN
METHOD:PUBLISH
X-WR-CALNAME:AU Agenda
X-ORIGINAL-URL:https://au-agenda.com
X-WR-CALDESC:Events for AU Schedule
REFRESH-INTERVAL;VALUE=DURATION:PT1H
X-Robots-Tag:noindex
X-PUBLISHED-TTL:PT1H
BEGIN:VTIMEZONE
TZID:Europe/Madrid
BEGIN:DAYLIGHT
TZOFFSETFROM:+0100
TZOFFSETTO:+0200
TZNAME:CEST
DTSTART:20260329T010000
END:DAYLIGHT
BEGIN:STANDARD
TZOFFSETFROM:+0200
TZOFFSETTO:+0100
TZNAME:CET
DTSTART:20261025T010000
END:STANDARD
END:VTIMEZONE
BEGIN:VEVENT
DTSTART;TZID=Europe/Madrid:20260321T190000
DTEND;TZID=Europe/Madrid:20260321T190000
DTSTAMP:20260419T173627
CREATED:20260218T154750Z
LAST-MODIFIED:20260218T154750Z
UID:308036-1774119600-1774119600@au-agenda.com
SUMMARY:woman scream: Gala artística
DESCRIPTION:Desde el inicio de este movimiento internacional\, con sede en República Dominicana\, more than two thousand events have been carried out in about 70 countries. \nLa delegación de Valencia representada desde el año 2018 por la escritora\, artista y activista cultural Patricia M. Cuenca Chaves\, se adhiere una vez más a esta cadena mundial con el objetivo de promover mensajes de igualdad\, respeto y no violencia\, como parte del proyecto Generación Igualdad de la ONU Mujeres. \nEl festival GM es un punto de encuentro\, donde las diversas manifestaciones artísticas\, la educación y el activismo van de la mano\, logrando concienciar de manera creativa a la población en general\, en un esfuerzo común\, Inspirator and With Borders. \nCon este lema “Sin fronteras”\, esta decimosexta edición del festival se centra en la defensa del derecho de tantas mujeres y niñas migrantes a comenzar de nuevo con dignidad en otro lugar que les brinde una nueva oportunidad\, llevando luz a este tema\, con la intención de visibilizar a estas mujeres que ofrecen su fortaleza\, culture and work in the new land that receives them. \nLa Rambleta será nuevamente el centro cultural que aloje este festival en apoyo a la causa y la promoción de sus objetivos. La asociación cultural Torrent de Paraules participará activamente como lo viene haciendo desde los inicios del movimiento. \nLa programación de esta edición 2026 includes in its main contents: \n– Jueves 5 de Marzo\, EXPO-ART WOMAN'S SCREAM 2026\, inauguración de una exposición colectiva de arte donde cada artista ofrecerá su personal interpretación de la temática a través de su obra\, en diversas propuestas\, techniques and styles. El púbico podrá disfrutar de un proyecto audiovisual como complemento de unas de las obras expuestas y tendrá oportunidad de interactuar con los artistas presentes.\nComo artistas invitados participarán Laura Carrasco (cello) and Agustín Torres (flamenco cajon). \n– Lunes 9 de marzo\, COLOQUIO interactivo “MUJERES Y VIDAS\, sin fronteras”.\nParticiparán como ponentes\, Ana Noguera (escritora\, Dra. en Filosofía\, member of the Valencian Culture Council) y Patricia M. Chaves Basin (escritora\, activista cultural\, delegate in Valencia of several international cultural movements). \n– Sábado 21 de marzo\, GALA ARTÍSTICA\, un evento donde la poesía\, Live music and dance will bring together numerous artists who will delight us with a multidisciplinary evening that will close the festival. \nSeremos antorcha viva que\, junto al poder de la palabra y el Arte\, bring light to this cry of migrant women and girls. La creatividad\, entrega y pasión de los artistas contribuye a llevar este mensaje de solidaridad y esperanza para construir juntos un mundo libre\, justo y sin violencia.\nQue sea a través de la fuerza transformadora de la Cultura y el Amor que logremos ese cambio en la sociedad que dignifique a todos los seres humanos. \n¡Que nuestro Grito se escuche en todo el mundo! \n[Access to the exhibition is free until capacity is reached.. For specific activities you can download the invitation at the bottom of this page]
URL:https://au-agenda.com/evento/grito-de-mujer-gala-artistica/
LOCATION:La Rambleta\, Bulevard Sud\, cantó Pius IX\, Valencia\, Valencia\, 46017\, España
CATEGORIES:Altres
END:VEVENT
END:VCALENDAR