BEGIN:VCALENDAR
VERSION:2.0
PRODID:-//AU Agenda - ECPv6.9.0//NONSGML v1.0//EN
CALSCALE:GREGORIAN
METHOD:PUBLISH
X-WR-CALNAME:AU Agenda
X-ORIGINAL-URL:https://au-agenda.com
X-WR-CALDESC:Eventos para AU Agenda
REFRESH-INTERVAL;VALUE=DURATION:PT1H
X-Robots-Tag:noindex
X-PUBLISHED-TTL:PT1H
BEGIN:VTIMEZONE
TZID:Europe/Madrid
BEGIN:DAYLIGHT
TZOFFSETFROM:+0100
TZOFFSETTO:+0200
TZNAME:CEST
DTSTART:20260329T010000
END:DAYLIGHT
BEGIN:STANDARD
TZOFFSETFROM:+0200
TZOFFSETTO:+0100
TZNAME:CET
DTSTART:20261025T010000
END:STANDARD
END:VTIMEZONE
BEGIN:VEVENT
DTSTART;TZID=Europe/Madrid:20260307T120000
DTEND;TZID=Europe/Madrid:20260307T120000
DTSTAMP:20260426T060916
CREATED:20260220T085033Z
LAST-MODIFIED:20260220T085033Z
UID:308367-1772884800-1772884800@au-agenda.com
SUMMARY:El Mago Larsen: Por arte de risa
DESCRIPTION:¡Sumérgete en un espectáculo de magia infantil y familiar inolvidable! El mago Larsen mezcla humor y magia para crear una experiencia única e ideal para todo los públicos. \nLlega un espectáculo de magia familiar donde TODO puede pasar… y donde tú también puedes acabar sobre el escenario. Niños\, adolescentes\, padres y abuelos se convierten en protagonistas de una tarde llena de magia\, humor y locuras inesperadas. Un show participativo\, divertido y lleno de momentos mágicos que terminan con música y sorpresas para los peques.
URL:https://au-agenda.com/evento/el-mago-larsen-por-arte-de-risa-2/
LOCATION:Artea\, Olimpia Arozena Torres\, 45\, Valencia\, Valencia\, 46018\, España
CATEGORIES:Magia
END:VEVENT
END:VCALENDAR