BEGIN:VCALENDAR
VERSION:2.0
PRODID:-//AU Schedule - ECPv6.9.0//NONSGML v1.0//EN
CALSCALE:GREGORIAN
METHOD:PUBLISH
X-WR-CALNAME:AU Agenda
X-ORIGINAL-URL:https://au-agenda.com
X-WR-CALDESC:Events for AU Schedule
REFRESH-INTERVAL;VALUE=DURATION:PT1H
X-Robots-Tag:noindex
X-PUBLISHED-TTL:PT1H
BEGIN:VTIMEZONE
TZID:Europe/Madrid
BEGIN:DAYLIGHT
TZOFFSETFROM:+0100
TZOFFSETTO:+0200
TZNAME:CEST
DTSTART:20260329T010000
END:DAYLIGHT
BEGIN:STANDARD
TZOFFSETFROM:+0200
TZOFFSETTO:+0100
TZNAME:CET
DTSTART:20261025T010000
END:STANDARD
END:VTIMEZONE
BEGIN:VEVENT
DTSTART;TZID=Europe/Madrid:20260418T180000
DTEND;TZID=Europe/Madrid:20260418T180000
DTSTAMP:20260420T212815
CREATED:20260414T150726Z
LAST-MODIFIED:20260414T150726Z
UID:314020-1776535200-1776535200@au-agenda.com
SUMMARY:El Arte del Fracaso
DESCRIPTION:Saturday 18 April to 18:00h vuelve el podcast de moda Valenciano al Fórum de FNAC con un nuevo episodio en directo y esta vez con un invitado muy especial\, el escritor Iñigo Aguas que viene a presentar su nuevo libro\, La Teoría. Del Odio de CrossBooks del Grupo Planeta. \nSe sorteará un ejemplar y habrá firma de libros. La entrada es GRATUITA. Si quieres asegurarte asiento sí o sí\, escribe a: \nelartedelfracasopodcast@gmail.com \nAdemás\, por venir: \n– Tendrás cerveza y agua fresquita. \n– Participar en sus sorteos.
URL:https://au-agenda.com/evento/el-arte-del-fracaso/
LOCATION:Fnac\, Valencia\, Valencia\, España
CATEGORIES:Presentació llibre/disc
ATTACH;FMTTYPE=image/jpeg:https://au-agenda.com/wp-content/uploads/2026/04/7BE37809-885C-4CAB-A2E9-37DC3DF94A1B.jpeg
END:VEVENT
END:VCALENDAR