BEGIN:VCALENDAR
VERSION:2.0
PRODID:-//AU Agenda - ECPv6.9.0//NONSGML v1.0//EN
CALSCALE:GREGORIAN
METHOD:PUBLISH
X-WR-CALNAME:AU Agenda
X-ORIGINAL-URL:https://au-agenda.com
X-WR-CALDESC:Eventos para AU Agenda
REFRESH-INTERVAL;VALUE=DURATION:PT1H
X-Robots-Tag:noindex
X-PUBLISHED-TTL:PT1H
BEGIN:VTIMEZONE
TZID:Europe/Madrid
BEGIN:DAYLIGHT
TZOFFSETFROM:+0100
TZOFFSETTO:+0200
TZNAME:CEST
DTSTART:20250330T010000
END:DAYLIGHT
BEGIN:STANDARD
TZOFFSETFROM:+0200
TZOFFSETTO:+0100
TZNAME:CET
DTSTART:20251026T010000
END:STANDARD
END:VTIMEZONE
BEGIN:VEVENT
DTSTART;TZID=Europe/Madrid:20251212T200000
DTEND;TZID=Europe/Madrid:20251212T200000
DTSTAMP:20260420T234228
CREATED:20251022T065942Z
LAST-MODIFIED:20251022T065942Z
UID:293787-1765569600-1765569600@au-agenda.com
SUMMARY:Divino\, Mari!
DESCRIPTION:La revista espanyola ressuscita amb lluentons\, descaro i moltíssim glamur! Pam Demia i Glamniss\, dos dives que dominen l’art del cabaret modern\, s’uneixen a la inconfusible estrella convidada Lola Spain per a presentar un espectacle de neo-revista que combina l’humor clàssic dels escenaris de varietats amb la irreverència i la llibertat del drag i el burlesque contemporani. Un viatge entre coples i rialles\, plomes i provocació\, on es celebra l’esperit murri\, sensual i satíric de la revista espanyola\, reinterpretat amb una mirada actual\, queer i sense censura. \nHi haurà música\, lipsyncs\, monòlegs\, coreografies i números que barregen allò castís amb allò infernal —perquè quan aquestes tres coincideixen a l’escenari\, el resultat només pot ser una festa d’espectacle pur. \n¡La revista española resucita con lentejuelas\, descaro y muchísimo glamour! Pam Demia y Glamniss\, dos divas que dominan el arte del cabaret moderno\, se unen a la inconfundible estrella invitada Lola Spain para presentar un espectáculo de neo-revista que combina el humor clásico de los escenarios de variedades con la irreverencia y la libertad del drag y el burlesque contemporáneo. Un viaje entre coplas y carcajadas\, plumas y provocación\, donde se celebra el espíritu pícaro\, sensual y satírico de la revista española\, reinterpretado con una mirada actual\, queer y sin censura. Habrá música\, lipsyncs\, monólogos\, coreografías y números que mezclan lo castizo con lo infernal —porque cuando estas tres coinciden en un escenario\, el resultado solo puede ser una fiesta de puro espectáculo. \n 
URL:https://au-agenda.com/evento/divino-mari/
LOCATION:La Protectora\, C/ de Maximilià Thous\, 6. La Saïdia\, València\, València\, 46009\, España
CATEGORIES:Escena
ATTACH;FMTTYPE=image/jpeg:https://au-agenda.com/wp-content/uploads/2025/10/IG_CartelDivinoMari_Mesa-de-trabajo-1.jpg
ORGANIZER;CN="L'infern Productions":MAILTO:l.infernproduction@gmail.com
END:VEVENT
END:VCALENDAR