BEGIN:VCALENDAR
VERSION:2.0
PRODID:-//AU Agenda - ECPv6.9.0//NONSGML v1.0//EN
CALSCALE:GREGORIAN
METHOD:PUBLISH
X-WR-CALNAME:AU Agenda
X-ORIGINAL-URL:https://au-agenda.com
X-WR-CALDESC:Eventos para AU Agenda
REFRESH-INTERVAL;VALUE=DURATION:PT1H
X-Robots-Tag:noindex
X-PUBLISHED-TTL:PT1H
BEGIN:VTIMEZONE
TZID:Europe/Madrid
BEGIN:DAYLIGHT
TZOFFSETFROM:+0100
TZOFFSETTO:+0200
TZNAME:CEST
DTSTART:20260329T010000
END:DAYLIGHT
BEGIN:STANDARD
TZOFFSETFROM:+0200
TZOFFSETTO:+0100
TZNAME:CET
DTSTART:20261025T010000
END:STANDARD
END:VTIMEZONE
BEGIN:VEVENT
DTSTART;TZID=Europe/Madrid:20260423T190000
DTEND;TZID=Europe/Madrid:20260423T190000
DTSTAMP:20260421T212952
CREATED:20260303T063045Z
LAST-MODIFIED:20260303T063045Z
UID:309706-1776970800-1776970800@au-agenda.com
SUMMARY:Diálogos Cañada Blanch: No espero al otro que también soy yo
DESCRIPTION:La artista Carmen Calvo (Valencia\, 1950)\, reconocida con el Premio Nacional de Artes Plásticas 2013 y el Premio Internacional Julio González 2020\, protagoniza un nuevo Diálogo Cañada Blanch con el catedrático y comisario Rafael Gil Salinas. La charla\, dirigida y moderada por la consultora de arte Amparela Benlliure\, propone una mirada transversal a la disciplina artística\, entendiendo la creatividad como un motor de búsqueda y reflexión intelectual. \nA lo largo de su trayectoria Carmen Calvo ha desarrollado un lenguaje propio en el que memoria\, identidad\, cuerpo y archivo dialogan a través de una práctica que integra pintura\, collage\, fotografía\, instalación y objeto encontrado. Su obra\, expuesta en museos y galerías a lo largo de todo el mundo\, se articula como un ejercicio de recuperación\, transformación y resignificación de imágenes y materiales procedentes de la cultura visual y de la experiencia cotidiana. \nEn un encuentro a tres voces ahondaremos en el análisis del proceso creativo de Carmen Calvo partiendo de sus obras más recientes\, desgranaremos las claves de su práctica artística y conceptual\, así como los hitos que han consolidado su éxito internacional y su lugar imprescindible en la historia del arte contemporáneo.
URL:https://au-agenda.com/evento/dialogos-canada-blanch-no-espero-al-otro-que-tambien-soy-yo/
LOCATION:Fundación Cañada Blanch\, Calle Jorge Juan 4\, 2º\, Valencia\, 46004
CATEGORIES:Confèrencia-Debat
ATTACH;FMTTYPE=image/jpeg:https://au-agenda.com/wp-content/uploads/2026/03/Carmen-Calvo_No-espero-al-otro-que-tambien-soy-yo.jpg
ORGANIZER;CN="Fundaci&oacute%3Bn Ca&ntilde%3Bada Blanch":MAILTO:comunicacion@fundacioncanadablanch.org
END:VEVENT
END:VCALENDAR