BEGIN:VCALENDAR
VERSION:2.0
PRODID:-//AU Schedule - ECPv6.9.0//NONSGML v1.0//EN
CALSCALE:GREGORIAN
METHOD:PUBLISH
X-WR-CALNAME:AU Agenda
X-ORIGINAL-URL:https://au-agenda.com
X-WR-CALDESC:Events for AU Schedule
REFRESH-INTERVAL;VALUE=DURATION:PT1H
X-Robots-Tag:noindex
X-PUBLISHED-TTL:PT1H
BEGIN:VTIMEZONE
TZID:Europe/Madrid
BEGIN:DAYLIGHT
TZOFFSETFROM:+0100
TZOFFSETTO:+0200
TZNAME:CEST
DTSTART:20260329T010000
END:DAYLIGHT
BEGIN:STANDARD
TZOFFSETFROM:+0200
TZOFFSETTO:+0100
TZNAME:CET
DTSTART:20261025T010000
END:STANDARD
END:VTIMEZONE
BEGIN:VEVENT
DTSTART;TZID=Europe/Madrid:20260103T203000
DTEND;TZID=Europe/Madrid:20260103T203000
DTSTAMP:20260420T101941
CREATED:20251218T190916Z
LAST-MODIFIED:20251218T190916Z
UID:301505-1767472200-1767472200@au-agenda.com
SUMMARY:Where do we come from? Imprebís
DESCRIPTION:El teatro ha sido a menudo un lugar donde mirar de cerca los hechos sociales\, un espacio en el que preguntarnos sobre los fenómenos de nuestras vidas\, un punto de encuentro\, a corner where we can build together a moment of humanity. \nNos preocupan cada vez más las cuestiones de la transición ecológica\, la paz\, el poder\, the economy… and many other concerns that we face in our daily lives. A través de este trabajo\, It has seemed increasingly urgent to ask ourselves some questions as well.: What are the triggers for the essential moments of life? ¿Qué motiva y condiciona nuestros actos\, our lives? Where do we come from? \nPara intentar responder a esas cuestiones\, we have let ourselves be carried away by different disciplines of art to enlighten ourselves. El espectáculo que proponemos es una invitación a crear juntos un momento compartido\, de encuentro\, de placer… Un momento en el que escucharemos palabras de sabios\, de locos\, de sabios-locos\, de poetas\, de escritores\, palabras que nunca hemos oído\, that challenge us and that we are going to build together.
URL:https://au-agenda.com/evento/de-donde-venimos-imprebis-5/
LOCATION:Teatro Off\, Túria\, 47\, Valencia\, Valencia\, 46008\, España
CATEGORIES:Escena
END:VEVENT
END:VCALENDAR