BEGIN:VCALENDAR
VERSION:2.0
PRODID:-//AU Agenda - ECPv6.9.0//NONSGML v1.0//EN
CALSCALE:GREGORIAN
METHOD:PUBLISH
X-WR-CALNAME:AU Agenda
X-ORIGINAL-URL:https://au-agenda.com
X-WR-CALDESC:Eventos para AU Agenda
REFRESH-INTERVAL;VALUE=DURATION:PT1H
X-Robots-Tag:noindex
X-PUBLISHED-TTL:PT1H
BEGIN:VTIMEZONE
TZID:Europe/Madrid
BEGIN:DAYLIGHT
TZOFFSETFROM:+0100
TZOFFSETTO:+0200
TZNAME:CEST
DTSTART:20250330T010000
END:DAYLIGHT
BEGIN:STANDARD
TZOFFSETFROM:+0200
TZOFFSETTO:+0100
TZNAME:CET
DTSTART:20251026T010000
END:STANDARD
END:VTIMEZONE
BEGIN:VEVENT
DTSTART;TZID=Europe/Madrid:20251227T210000
DTEND;TZID=Europe/Madrid:20251227T210000
DTSTAMP:20260420T152610
CREATED:20251121T183908Z
LAST-MODIFIED:20251121T183908Z
UID:298355-1766869200-1766869200@au-agenda.com
SUMMARY:¿De dónde venimos? Imprebís
DESCRIPTION:El teatro ha sido a menudo un lugar donde mirar de cerca los hechos sociales\, un espacio en el que preguntarnos sobre los fenómenos de nuestras vidas\, un punto de encuentro\, un rincón donde construir juntos un momento de humanidad. \nNos preocupan cada vez más las cuestiones de la transición ecológica\, la paz\, el poder\, la economía… y muchas otras inquietudes que enfrentamos en nuestra vida cotidiana. A través de este trabajo\, nos ha parecido cada vez más urgente plantearnos también algunas preguntas: ¿Cuáles son los detonantes de los momentos esenciales de la vida? ¿Qué motiva y condiciona nuestros actos\, nuestras vidas? ¿De dónde venimos? \nPara intentar responder a esas cuestiones\, nos hemos dejado llevar por diferentes disciplinas del arte para iluminarnos. El espectáculo que proponemos es una invitación a crear juntos un momento compartido\, de encuentro\, de placer… Un momento en el que escucharemos palabras de sabios\, de locos\, de sabios-locos\, de poetas\, de escritores\, palabras que nunca hemos oído\, que nos interpelan y que vamos a construir juntos.
URL:https://au-agenda.com/evento/de-donde-venimos-imprebis-2/
LOCATION:Teatro Off\, Túria\, 47\, Valencia\, Valencia\, 46008\, España
CATEGORIES:Escena
END:VEVENT
END:VCALENDAR