BEGIN:VCALENDAR
VERSION:2.0
PRODID:-//AU Schedule - ECPv6.9.0//NONSGML v1.0//EN
CALSCALE:GREGORIAN
METHOD:PUBLISH
X-WR-CALNAME:AU Agenda
X-ORIGINAL-URL:https://au-agenda.com
X-WR-CALDESC:Events for AU Schedule
REFRESH-INTERVAL;VALUE=DURATION:PT1H
X-Robots-Tag:noindex
X-PUBLISHED-TTL:PT1H
BEGIN:VTIMEZONE
TZID:Europe/Madrid
BEGIN:DAYLIGHT
TZOFFSETFROM:+0100
TZOFFSETTO:+0200
TZNAME:CEST
DTSTART:20260329T010000
END:DAYLIGHT
BEGIN:STANDARD
TZOFFSETFROM:+0200
TZOFFSETTO:+0100
TZNAME:CET
DTSTART:20261025T010000
END:STANDARD
END:VTIMEZONE
BEGIN:VEVENT
DTSTART;TZID=Europe/Madrid:20260421T180000
DTEND;TZID=Europe/Madrid:20260421T180000
DTSTAMP:20260421T053436
CREATED:20260417T113756Z
LAST-MODIFIED:20260417T113756Z
UID:314223-1776794400-1776794400@au-agenda.com
SUMMARY:Mother things....
DESCRIPTION:Medea. Clitemnestra. The stepmother in the story… Motherhoods that have been demonized. Maternities that we have inherited. Que necesitamos revisar\, entender\, appreciate. In this session we are going to go through those stories that we swallow without blinking.. And we will connect them with the mothers of today. Madres concretas\, madres cercanas\, even famous mothers. The underlying question is clear: If being a mother is the greatest thing in the world... why do we value it so little?? Quizás\, because in this way the patriarchy divides and distributes: la responsabilidad para ellas\, the merit to them; el trabajo para ellas\, el apellido… Pues mira\, resulta que eso sí lo podemos cambiar 😉 \nCon @apellido.materno.primero\n(and the illustrations by @tutticonfetti ). \nENTRADA GRATUITA \nhttps://cosasdemadres.eventbrite.es
URL:https://au-agenda.com/evento/cosas-de-madres-2/
LOCATION:CC Nave3 Ribes\, Filipinas\, s/n (Parc Central)\, Valencia\, 46006\, España
CATEGORIES:Confèrencia-Debat
ATTACH;FMTTYPE=image/png:https://au-agenda.com/wp-content/uploads/2026/04/3.png
ORGANIZER;CN="Patriarchal Sins":MAILTO:hola@pecadospatriarcales.com
END:VEVENT
END:VCALENDAR