BEGIN:VCALENDAR
VERSION:2.0
PRODID:-//AU Agenda - ECPv6.9.0//NONSGML v1.0//EN
CALSCALE:GREGORIAN
METHOD:PUBLISH
X-WR-CALNAME:AU Agenda
X-ORIGINAL-URL:https://au-agenda.com
X-WR-CALDESC:Eventos para AU Agenda
REFRESH-INTERVAL;VALUE=DURATION:PT1H
X-Robots-Tag:noindex
X-PUBLISHED-TTL:PT1H
BEGIN:VTIMEZONE
TZID:Europe/Madrid
BEGIN:DAYLIGHT
TZOFFSETFROM:+0100
TZOFFSETTO:+0200
TZNAME:CEST
DTSTART:20260329T010000
END:DAYLIGHT
BEGIN:STANDARD
TZOFFSETFROM:+0200
TZOFFSETTO:+0100
TZNAME:CET
DTSTART:20261025T010000
END:STANDARD
END:VTIMEZONE
BEGIN:VEVENT
DTSTART;TZID=Europe/Madrid:20260423T190000
DTEND;TZID=Europe/Madrid:20260423T190000
DTSTAMP:20260420T154354
CREATED:20260417T113415Z
LAST-MODIFIED:20260417T113415Z
UID:314240-1776970800-1776970800@au-agenda.com
SUMMARY:Col.loqui amb José Martínez Rubio
DESCRIPTION:Amb motiu de la publicació del seu llibre «Todas las promesas».  \nEspanya. Mediats dels anys 70. Joaquín viatja des del “barri alt”\, en la perifèria de València\, fins a Saint-Denis\, en la perifèria de París\, buscant donar a la seua vida un nou horitzó. A penes té 20 anys\, però ja intueix que l’existència grisa i anodina que porta en el seu barri natal serà una creu de la qual no escaparà si no s’atreveix a fer fallida eixe destí. Per això\, decideix deixar arrere el seu passat\, tot el que té (una mare\, sobretot una mare)\, i s’embarca amb una troupe folklòrica que cada any viatja a Saint-Denis (cresol i espill de totes les migracions que a França han sigut) per a guanyar-se uns duros i alimentar la nostàlgia dels espanyols emigrats amb les cobles de sempre.\nSerà allí\, lluny de casa\, en un món nou\, ple de reptes desconeguts i inesperats\, on Joaquín descobrirà la duresa de la vida… però també els desafiaments que la llibertat erigeix davant nosaltres quan es tracta de decidir les qüestions essencials.\nXopada en la saviesa i la calor del vell folclor espanyol\, la nova novel·la de José Martínez Rubio és un valent al·legat i una indagació en fenòmens tan contemporanis i controvertits com la immigració i l’homosexualitat.\nLlegint-la un no pot escapar del sortilegi que va popularitzar Jeanette en 1976 amb la seua cançó: “¿Por qué te vas? ¿Por qué te vas? Todas las promrsas de mi amor se irán contigo…”. Plena de vida i de reflexió\, la novel·la ens transporta a eixe moment crític en la vida en què es juga el destí de cadascú.
URL:https://au-agenda.com/evento/col-loqui-amb-jose-martinez-rubio/
LOCATION:La Nau\, Universitat\, 2\, Valencia\, Valencia\, 46002\, España
CATEGORIES:Presentació llibre/disc
END:VEVENT
END:VCALENDAR