BEGIN:VCALENDAR
VERSION:2.0
PRODID:-//AU Agenda - ECPv6.9.0//NONSGML v1.0//EN
CALSCALE:GREGORIAN
METHOD:PUBLISH
X-WR-CALNAME:AU Agenda
X-ORIGINAL-URL:https://au-agenda.com
X-WR-CALDESC:Eventos para AU Agenda
REFRESH-INTERVAL;VALUE=DURATION:PT1H
X-Robots-Tag:noindex
X-PUBLISHED-TTL:PT1H
BEGIN:VTIMEZONE
TZID:Europe/Madrid
BEGIN:DAYLIGHT
TZOFFSETFROM:+0100
TZOFFSETTO:+0200
TZNAME:CEST
DTSTART:20250330T010000
END:DAYLIGHT
BEGIN:STANDARD
TZOFFSETFROM:+0200
TZOFFSETTO:+0100
TZNAME:CET
DTSTART:20251026T010000
END:STANDARD
END:VTIMEZONE
BEGIN:VEVENT
DTSTART;TZID=Europe/Madrid:20251218T190000
DTEND;TZID=Europe/Madrid:20251218T190000
DTSTAMP:20260419T234354
CREATED:20251105T155213Z
LAST-MODIFIED:20251105T155213Z
UID:296851-1766084400-1766084400@au-agenda.com
SUMMARY:Club de Lectura Feminista: La revuelta de las putas
DESCRIPTION:Los terceros jueves de cada mes\, a las 19:00h tenemos nuestro club de lectura FEMINISTA. Nos reuniremos para hablar sobre el libro y podrás contarnos todo lo que te haya parecido\, plantear tus dudas para entre todas las personas aprender y discutir sobre feminismo. Y para las tres lecturas imprescindibles para comprender y dialogar sobre un tema que siempre genera debate como es el tema de la prostitución: \nTeoría King Kong de Virginie Despentes el jueves 20 de noviembre\nLa revuelta de las putas de Amelia Tiganus el jueves 18 de diciembre\nPuta feminista de Georgina Orellano el 15 de enero \nPara + información mándale a Laura un WhatsApp al 658630362.\nAportación consciente mínima de 3€\nCONSUMICIÓN OBLIGATORIA.
URL:https://au-agenda.com/evento/club-de-lectura-feminista-la-revuelta-de-las-putas/
LOCATION:La Casa de Patraix\, c/ Convento de Jesús\, 11\, Valencia\, 46018\, España
CATEGORIES:Altres
ATTACH;FMTTYPE=image/jpeg:https://au-agenda.com/wp-content/uploads/2025/11/1000164592-1.jpg
ORGANIZER;CN="La Casa de Patraix":MAILTO:lacasadepatraix@gmail.com
END:VEVENT
END:VCALENDAR