BEGIN:VCALENDAR
VERSION:2.0
PRODID:-//AU Schedule - ECPv6.9.0//NONSGML v1.0//EN
CALSCALE:GREGORIAN
METHOD:PUBLISH
X-WR-CALNAME:AU Agenda
X-ORIGINAL-URL:https://au-agenda.com
X-WR-CALDESC:Events for AU Schedule
REFRESH-INTERVAL;VALUE=DURATION:PT1H
X-Robots-Tag:noindex
X-PUBLISHED-TTL:PT1H
BEGIN:VTIMEZONE
TZID:Europe/Madrid
BEGIN:DAYLIGHT
TZOFFSETFROM:+0100
TZOFFSETTO:+0200
TZNAME:CEST
DTSTART:20260329T010000
END:DAYLIGHT
BEGIN:STANDARD
TZOFFSETFROM:+0200
TZOFFSETTO:+0100
TZNAME:CET
DTSTART:20261025T010000
END:STANDARD
END:VTIMEZONE
BEGIN:VEVENT
DTSTART;TZID=Europe/Madrid:20260311T193000
DTEND;TZID=Europe/Madrid:20260311T193000
DTSTAMP:20260420T083539
CREATED:20260220T111408Z
LAST-MODIFIED:20260220T111408Z
UID:308553-1773257400-1773257400@au-agenda.com
SUMMARY:Scorsese cycle: El Rey de la Comedia
DESCRIPTION:One of the films that has marked me the most by Martín Scorsese and that is least talked about. El Rey de la Comedia es lo que quiso ser Joker\, de Todd Philips y Joaquin Phoenix\, but he couldn't with the charisma of Robert De Niro and the direction of Martín Scorsese. Although we would like it too. \nSinopsis: Rupert Pupkin es un cómico obsesionado con la fama y convertirse en el mejor en su campo. Un día Rupert conoce a su ídolo\, Jerry Langford\, y le suplica la oportunidad de aparecer en su show\, pero éste se la niega. Sin embargo Pupkin no cejará en su empeño\, acosando a Jerry para intentar poder conseguir sus propósitos y\, con ayuda de su amiga Masha\, usará un método contundente para poder obtener sus minutos de celebridad.
URL:https://au-agenda.com/evento/ciclo-scorsese-el-rey-de-la-comedia/
LOCATION:Cines Lys\, Passeig de Russafa\, 3\, Valencia\, Valencia\, 46002\, España
CATEGORIES:Cinema
END:VEVENT
END:VCALENDAR