BEGIN:VCALENDAR
VERSION:2.0
PRODID:-//AU Schedule - ECPv6.9.0//NONSGML v1.0//EN
CALSCALE:GREGORIAN
METHOD:PUBLISH
X-WR-CALNAME:AU Agenda
X-ORIGINAL-URL:https://au-agenda.com
X-WR-CALDESC:Events for AU Schedule
REFRESH-INTERVAL;VALUE=DURATION:PT1H
X-Robots-Tag:noindex
X-PUBLISHED-TTL:PT1H
BEGIN:VTIMEZONE
TZID:Europe/Madrid
BEGIN:DAYLIGHT
TZOFFSETFROM:+0100
TZOFFSETTO:+0200
TZNAME:CEST
DTSTART:20260329T010000
END:DAYLIGHT
BEGIN:STANDARD
TZOFFSETFROM:+0200
TZOFFSETTO:+0100
TZNAME:CET
DTSTART:20261025T010000
END:STANDARD
END:VTIMEZONE
BEGIN:VEVENT
DTSTART;TZID=Europe/Madrid:20260503T193000
DTEND;TZID=Europe/Madrid:20260503T193000
DTSTAMP:20260423T193844
CREATED:20260420T065523Z
LAST-MODIFIED:20260420T065523Z
UID:314319-1777836600-1777836600@au-agenda.com
SUMMARY:Chistes y Chisteras (Monólogo y Magia)
DESCRIPTION:¿Alguna vez has visto un espectáculo en el que la magia se mezcla con la comedia? Tras su paso por Got Talent\, Kinépolis y el festival Sonorama\, Sergio Alamar y Juanan Casbel presentan este espectáculo en el que unen sus dos disciplinas para crear un cúmulo de sorpresa y momentos inesperados. Nuevos monólogos en cada espectáculo\, trucos de magia y la participación del público hacen que cada actuación sea única e irrepetible. Un espectáculo vivo\, donde lo imposible es posible\, y en el que lo único que tienes que hacer es venir y dejarte sorprender. ¿Te atreves?\n\nPara público mayor de 16 años\n\nPuedes comprar la entrada entrando en atrapalo: Chistes y Chisteras – Monólogo y Magia en Valencia (Valencia) – Atrapalo.com o mandando un WhatsApp al 670115918.
URL:https://au-agenda.com/evento/chistes-y-chisteras-monologo-y-magia/
LOCATION:La Casa de Patraix\, c/ Convento de Jesús\, 11\, Valencia\, 46018\, España
CATEGORIES:Monólogo
ATTACH;FMTTYPE=image/jpeg:https://au-agenda.com/wp-content/uploads/2026/04/Cartel-3Mayo-Magia-y-Comedia.jpg
ORGANIZER;CN="The House of Patraix":MAILTO:lacasadepatraix@gmail.com
END:VEVENT
END:VCALENDAR