BEGIN:VCALENDAR
VERSION:2.0
PRODID:-//AU Schedule - ECPv6.9.0//NONSGML v1.0//EN
CALSCALE:GREGORIAN
METHOD:PUBLISH
X-WR-CALNAME:AU Agenda
X-ORIGINAL-URL:https://au-agenda.com
X-WR-CALDESC:Events for AU Schedule
REFRESH-INTERVAL;VALUE=DURATION:PT1H
X-Robots-Tag:noindex
X-PUBLISHED-TTL:PT1H
BEGIN:VTIMEZONE
TZID:Europe/Madrid
BEGIN:DAYLIGHT
TZOFFSETFROM:+0100
TZOFFSETTO:+0200
TZNAME:CEST
DTSTART:20260329T010000
END:DAYLIGHT
BEGIN:STANDARD
TZOFFSETFROM:+0200
TZOFFSETTO:+0100
TZNAME:CET
DTSTART:20261025T010000
END:STANDARD
END:VTIMEZONE
BEGIN:VEVENT
DTSTART;TZID=Europe/Madrid:20260525T190000
DTEND;TZID=Europe/Madrid:20260525T190000
DTSTAMP:20260421T215411
CREATED:20260303T063246Z
LAST-MODIFIED:20260303T063246Z
UID:309716-1779735600-1779735600@au-agenda.com
SUMMARY:Talks about Expanded Fiction: Gemma Blasco
DESCRIPTION:La cineasta y guionista Gemma Blasco participa en una nueva sesión del ciclo Charlas sobre Ficción Expandida\, dirigido por el escritor y guionista David Pascual\, a space for dialogue with creators who expand writing beyond the text. \nFormada en Bande à Part y en talleres como La construcción del personaje (EICTV\, Cuba)\, Blasco has developed a career that combines formal risk with emotional exploration. Tras su cortometraje Jauría (2018)\, premio SGAE-Nova Autoria del Festival de Sitges\, y el largometraje experimental El zoo (2018)\, in 2025 estrena La furia en South by Southwest. La película se convierte en uno de los títulos destacados del año con tres premios de la Sección Oficial del Festival de Málaga\, mención especial del jurado en el SXSW London\, seis nominaciones a los Premios Gaudí\, two nominations for the Goya Awards 2026\, entre ellas a Mejor dirección novel\, and a nomination in the Forqué Awards and Feroz Awards. \nSu cine\, atravesado por la violencia y la memoria\, conceives the construction of the character as a political space. En esta conversación abordamos junto a ella los procesos de escritura cinematográfica\, the relationship between experience and fiction and the tensions between creation and industry in the current context.
URL:https://au-agenda.com/evento/charlas-sobre-ficcion-expandida-gemma-blasco/
LOCATION:Fundación Cañada Blanch\, Jorge Juan Street 4\, 2º\, Valencia\, 46004
CATEGORIES:Confèrencia-Debat
ATTACH;FMTTYPE=image/png:https://au-agenda.com/wp-content/uploads/2026/03/Gemma-Blasco_WEB-ok.png
ORGANIZER;CN="Fundaci&oacute%3Bn Ca&ntilde%3Bada Blanch":MAILTO:comunicacion@fundacioncanadablanch.org
END:VEVENT
END:VCALENDAR