BEGIN:VCALENDAR
VERSION:2.0
PRODID:-//AU Agenda - ECPv6.9.0//NONSGML v1.0//EN
CALSCALE:GREGORIAN
METHOD:PUBLISH
X-WR-CALNAME:AU Agenda
X-ORIGINAL-URL:https://au-agenda.com
X-WR-CALDESC:Eventos para AU Agenda
REFRESH-INTERVAL;VALUE=DURATION:PT1H
X-Robots-Tag:noindex
X-PUBLISHED-TTL:PT1H
BEGIN:VTIMEZONE
TZID:Europe/Madrid
BEGIN:DAYLIGHT
TZOFFSETFROM:+0100
TZOFFSETTO:+0200
TZNAME:CEST
DTSTART:20260329T010000
END:DAYLIGHT
BEGIN:STANDARD
TZOFFSETFROM:+0200
TZOFFSETTO:+0100
TZNAME:CET
DTSTART:20261025T010000
END:STANDARD
END:VTIMEZONE
BEGIN:VEVENT
DTSTART;TZID=Europe/Madrid:20260525T190000
DTEND;TZID=Europe/Madrid:20260525T190000
DTSTAMP:20260421T201336
CREATED:20260303T063246Z
LAST-MODIFIED:20260303T063246Z
UID:309716-1779735600-1779735600@au-agenda.com
SUMMARY:Charlas sobre Ficción Expandida: Gemma Blasco
DESCRIPTION:La cineasta y guionista Gemma Blasco participa en una nueva sesión del ciclo Charlas sobre Ficción Expandida\, dirigido por el escritor y guionista David Pascual\, un espacio de diálogo con creadoras que expanden la escritura más allá del texto. \nFormada en Bande à Part y en talleres como La construcción del personaje (EICTV\, Cuba)\, Blasco ha desarrollado una trayectoria que combina el riesgo formal con la exploración emocional. Tras su cortometraje Jauría (2018)\, premio SGAE-Nova Autoria del Festival de Sitges\, y el largometraje experimental El zoo (2018)\, en 2025 estrena La furia en South by Southwest. La película se convierte en uno de los títulos destacados del año con tres premios de la Sección Oficial del Festival de Málaga\, mención especial del jurado en el SXSW London\, seis nominaciones a los Premios Gaudí\, dos nominaciones a los Premios Goya 2026\, entre ellas a Mejor dirección novel\, y una nominación en los Premios Forqué y Premios Feroz. \nSu cine\, atravesado por la violencia y la memoria\, concibe la construcción del personaje como un espacio político. En esta conversación abordamos junto a ella los procesos de escritura cinematográfica\, la relación entre experiencia y ficción y las tensiones entre creación e industria en el contexto actual.
URL:https://au-agenda.com/evento/charlas-sobre-ficcion-expandida-gemma-blasco/
LOCATION:Fundación Cañada Blanch\, Calle Jorge Juan 4\, 2º\, Valencia\, 46004
CATEGORIES:Confèrencia-Debat
ATTACH;FMTTYPE=image/png:https://au-agenda.com/wp-content/uploads/2026/03/Gemma-Blasco_WEB-ok.png
ORGANIZER;CN="Fundaci&oacute%3Bn Ca&ntilde%3Bada Blanch":MAILTO:comunicacion@fundacioncanadablanch.org
END:VEVENT
END:VCALENDAR