BEGIN:VCALENDAR
VERSION:2.0
PRODID:-//AU Agenda - ECPv6.9.0//NONSGML v1.0//EN
CALSCALE:GREGORIAN
METHOD:PUBLISH
X-WR-CALNAME:AU Agenda
X-ORIGINAL-URL:https://au-agenda.com
X-WR-CALDESC:Eventos para AU Agenda
REFRESH-INTERVAL;VALUE=DURATION:PT1H
X-Robots-Tag:noindex
X-PUBLISHED-TTL:PT1H
BEGIN:VTIMEZONE
TZID:Europe/Madrid
BEGIN:DAYLIGHT
TZOFFSETFROM:+0100
TZOFFSETTO:+0200
TZNAME:CEST
DTSTART:20260329T010000
END:DAYLIGHT
BEGIN:STANDARD
TZOFFSETFROM:+0200
TZOFFSETTO:+0100
TZNAME:CET
DTSTART:20261025T010000
END:STANDARD
END:VTIMEZONE
BEGIN:VEVENT
DTSTART;TZID=Europe/Madrid:20260225T183000
DTEND;TZID=Europe/Madrid:20260225T183000
DTSTAMP:20260419T135921
CREATED:20260216T073450Z
LAST-MODIFIED:20260216T073450Z
UID:307748-1772044200-1772044200@au-agenda.com
SUMMARY:Charla: "Dulce para el norte\, amargo para el sur"
DESCRIPTION:El Centro de Estudios Rurales y de Agricultura Internacional (CERAI) presenta los resultados de una investigación periodística sobre las consecuencias sociales\, económicas y medioambientales del cultivo de caña de azúcar y café destinados a la exportación en El Salvador. Será el miércoles\, 25 de febrero a las 18.30 horas\, en el salón de actos del Colegio Mayor Rector Peset. \nEn el marco del proyecto de sensibilización El alimento que nos une\, el encuentro pondrá el foco en el impacto de los modelos agroindustriales en las comunidades rurales\, el acceso al agua\, la biodiversidad y la seguridad alimentaria\, sin perder de vista las alternativas que ya se están impulsando desde el propio territorio. Abrirá una reflexión crítica sobre la relación entre nuestros hábitos de consumo y el respeto a los derechos humanos en los países productores. \nLa mesa contará con la participación de Laura Villadiego y Aurora Moreno\, periodistas del colectivo de Carro de Combate\, y de Iñaki Liceaga\, responsable en CERAI de proyectos de cooperación para América del Sur\, Central y Caribe. \nLas personas que asistan recibirán un libro de recetas de Bolivia y El Salvador gratuitamente. \nPara asistir es necesario realizar la  inscripción al evento.
URL:https://au-agenda.com/evento/charla-dulce-para-el-norte-amargo-para-el-sur/
LOCATION:C.M. Rector Peset\, Forn de Sant Nicolau\, 4\, Valencia\, Valencia\, 46950\, España
CATEGORIES:Confèrencia-Debat
ATTACH;FMTTYPE=image/jpeg:https://au-agenda.com/wp-content/uploads/2026/02/Evento-El-Salvador-1.jpg
ORGANIZER;CN="CERAI":MAILTO:comunicacion@cerai.org
END:VEVENT
END:VCALENDAR