BEGIN:VCALENDAR
VERSION:2.0
PRODID:-//AU Agenda - ECPv6.9.0//NONSGML v1.0//EN
CALSCALE:GREGORIAN
METHOD:PUBLISH
X-WR-CALNAME:AU Agenda
X-ORIGINAL-URL:https://au-agenda.com
X-WR-CALDESC:Eventos para AU Agenda
REFRESH-INTERVAL;VALUE=DURATION:PT1H
X-Robots-Tag:noindex
X-PUBLISHED-TTL:PT1H
BEGIN:VTIMEZONE
TZID:Europe/Madrid
BEGIN:DAYLIGHT
TZOFFSETFROM:+0100
TZOFFSETTO:+0200
TZNAME:CEST
DTSTART:20260329T010000
END:DAYLIGHT
BEGIN:STANDARD
TZOFFSETFROM:+0200
TZOFFSETTO:+0100
TZNAME:CET
DTSTART:20261025T010000
END:STANDARD
END:VTIMEZONE
BEGIN:VEVENT
DTSTART;TZID=Europe/Madrid:20260416T190000
DTEND;TZID=Europe/Madrid:20260416T190000
DTSTAMP:20260421T195219
CREATED:20260303T063313Z
LAST-MODIFIED:20260303T063313Z
UID:309721-1776366000-1776366000@au-agenda.com
SUMMARY:Censura\, cancelación y memoria cultural: El último tango en París
DESCRIPTION:La crítica de cine y escritora Eva Peydró protagoniza un Diálogo Cañada Blanch en torno a la censura\, la cancelación y los conflictos entre creación artística\, poder y moral contemporánea\, a partir del caso paradigmático de El último tango en París (Bernardo Bertolucci\, 1972). \nUna conversación entre especialistas del ámbito cinematográfico\, acompañada de material audiovisual\, que permitirá analizar cómo una obra artística puede ser reinterpretada\, cuestionada o incluso condenada décadas después de su estreno\, en función de los cambios sociales\, políticos y culturales. Durante la sesión se abordarán cuestiones como la censura retrospectiva\, la cultura de la cancelación\, la responsabilidad ética del creador\, la relación entre ficción y realidad\, y los límites —si existen— de la libertad artística. \nA partir de su ensayo El último tango en París. Un escándalo entre dos siglos\, Eva Peydró nos invita a reflexionar con un diálogo interdisciplinar en el que el cine sirve como herramienta para pensar el presente. Un espacio en el que interrogar nuestro modo actual de mirar el pasado\, juzgar las obras y reescribir la historia cultural.
URL:https://au-agenda.com/evento/censura-cancelacion-y-memoria-cultural-el-ultimo-tango-en-paris/
LOCATION:Fundación Cañada Blanch\, Calle Jorge Juan 4\, 2º\, Valencia\, 46004
CATEGORIES:Confèrencia-Debat
ATTACH;FMTTYPE=image/jpeg:https://au-agenda.com/wp-content/uploads/2026/03/Censura-cancelacion-y-memoria_Eva-Peydro_WEB.jpg
ORGANIZER;CN="Fundaci&oacute%3Bn Ca&ntilde%3Bada Blanch":MAILTO:comunicacion@fundacioncanadablanch.org
END:VEVENT
END:VCALENDAR