BEGIN:VCALENDAR
VERSION:2.0
PRODID:-//AU Schedule - ECPv6.9.0//NONSGML v1.0//EN
CALSCALE:GREGORIAN
METHOD:PUBLISH
X-WR-CALNAME:AU Agenda
X-ORIGINAL-URL:https://au-agenda.com
X-WR-CALDESC:Events for AU Schedule
REFRESH-INTERVAL;VALUE=DURATION:PT1H
X-Robots-Tag:noindex
X-PUBLISHED-TTL:PT1H
BEGIN:VTIMEZONE
TZID:Europe/Madrid
BEGIN:DAYLIGHT
TZOFFSETFROM:+0100
TZOFFSETTO:+0200
TZNAME:CEST
DTSTART:20260329T010000
END:DAYLIGHT
BEGIN:STANDARD
TZOFFSETFROM:+0200
TZOFFSETTO:+0100
TZNAME:CET
DTSTART:20261025T010000
END:STANDARD
END:VTIMEZONE
BEGIN:VEVENT
DTSTART;TZID=Europe/Madrid:20260422T190000
DTEND;TZID=Europe/Madrid:20260422T190000
DTSTAMP:20260422T191455
CREATED:20260417T073746Z
LAST-MODIFIED:20260417T073746Z
UID:314177-1776884400-1776884400@au-agenda.com
SUMMARY:Carlos Goñi presenta “La 03010”
DESCRIPTION:on Wednesday 22 April to 19:00\, The Fnac València Forum hosts the presentation and exclusive showcase of La 03010\, el nuevo álbum de Revólver\, with Carlos Goñi at the helm. En esta puesta de largo de su último trabajo\, tras varios años sin sacar álbum con temas propios\,  Goñi will offer live to the Valencian public a sample of this work in which he takes a trip back to his Alicante roots.. The quote has a special meaning. No solo marca la vuelta discográfica de Revólver tras un largo periodo sin publicar un álbum nuevo de canciones originales\, but is celebrated in a city deeply linked to the artistic and vital biography of Goñi. València—and the Community—is not just another stage in its trajectory: It's part of the story.
URL:https://au-agenda.com/evento/carlos-goni-presenta-la-03010/
LOCATION:Fnac\, Valencia\, Valencia\, España
CATEGORIES:Presentació llibre/disc
END:VEVENT
END:VCALENDAR