BEGIN:VCALENDAR
VERSION:2.0
PRODID:-//AU Schedule - ECPv6.9.0//NONSGML v1.0//EN
CALSCALE:GREGORIAN
METHOD:PUBLISH
X-WR-CALNAME:AU Agenda
X-ORIGINAL-URL:https://au-agenda.com
X-WR-CALDESC:Events for AU Schedule
REFRESH-INTERVAL;VALUE=DURATION:PT1H
X-Robots-Tag:noindex
X-PUBLISHED-TTL:PT1H
BEGIN:VTIMEZONE
TZID:Europe/Madrid
BEGIN:DAYLIGHT
TZOFFSETFROM:+0100
TZOFFSETTO:+0200
TZNAME:CEST
DTSTART:20260329T010000
END:DAYLIGHT
BEGIN:STANDARD
TZOFFSETFROM:+0200
TZOFFSETTO:+0100
TZNAME:CET
DTSTART:20261025T010000
END:STANDARD
END:VTIMEZONE
BEGIN:VEVENT
DTSTART;TZID=Europe/Madrid:20260314T190000
DTEND;TZID=Europe/Madrid:20260314T190000
DTSTAMP:20260419T172859
CREATED:20260227T081524Z
LAST-MODIFIED:20260227T081524Z
UID:309580-1773514800-1773514800@au-agenda.com
SUMMARY:Cambra al Palau
DESCRIPTION:Cambra al Palau proposa una nova cita amb un programa protagonitzat pels solistes de l’Orquestra de València\, dirigits per Allen Vladimir\, que combina repertori concertant i obres de diferents tradicions musicals. La vetllada\, que comptarà amb l’oboista Roberto Turlo\,  inclou obres de Bloch\, Lebrun\, Galindo\, Calva i Rodríguez. A més\, s’escoltarà l’estrena absoluta d’ARIA. Canción sin palabras\, d’Eduardo Magallanes. Com també  Intensamente romántico una partitura plena de boleros\, mambos i ranxeres. La proposta reunix així diverses estètiques com la clàssica i ritmes llatinoamericans dins del format cambra. \nRoberto Turlo\, oboé\nSOLISTES DE L’ORQUESTRA DE VALÈNCIA\nAllen Vladimir\, director \nErnest Bloch Concerto Grosso núm. 1\, B.59\nL.A. Lebrun Concert núm 1 per a oboé i orquestra en Re menor\nE. Magallanes ARIA. Canción sin palabras*\nBlas Galindo Poema de Neruda\nA. Calva Gran danzón de las Américas\nA. Rodríguez Mexicanismos\nE. Magallanes Intensamente Romántico. Popurri (arr.): El Reloj.\nAnsiedad. Sabor a mí. ¿Quién será? De repente.\nLa Bikina. Qué bonita es mi tierra.
URL:https://au-agenda.com/evento/cambra-al-palau-3/
LOCATION:P. Música\, L'Albereda\, 30\, Valencia\, Valencia\, 46023\, España
CATEGORIES:Música
END:VEVENT
END:VCALENDAR