BEGIN:VCALENDAR
VERSION:2.0
PRODID:-//AU Agenda - ECPv6.9.0//NONSGML v1.0//EN
CALSCALE:GREGORIAN
METHOD:PUBLISH
X-WR-CALNAME:AU Agenda
X-ORIGINAL-URL:https://au-agenda.com
X-WR-CALDESC:Eventos para AU Agenda
REFRESH-INTERVAL;VALUE=DURATION:PT1H
X-Robots-Tag:noindex
X-PUBLISHED-TTL:PT1H
BEGIN:VTIMEZONE
TZID:Europe/Madrid
BEGIN:DAYLIGHT
TZOFFSETFROM:+0100
TZOFFSETTO:+0200
TZNAME:CEST
DTSTART:20260329T010000
END:DAYLIGHT
BEGIN:STANDARD
TZOFFSETFROM:+0200
TZOFFSETTO:+0100
TZNAME:CET
DTSTART:20261025T010000
END:STANDARD
END:VTIMEZONE
BEGIN:VEVENT
DTSTART;TZID=Europe/Madrid:20260222T120000
DTEND;TZID=Europe/Madrid:20260222T120000
DTSTAMP:20260420T081253
CREATED:20260218T114347Z
LAST-MODIFIED:20260218T114347Z
UID:307961-1771761600-1771761600@au-agenda.com
SUMMARY:Cabaret Circuito de Circo de Calle de Alboraia
DESCRIPTION:La AVC inaugura el domingo 22 de febrero a las 12.00 en la Plaza del Carmen de Alboraya la primera edición del Circuito de Circo de Calle de Alboraia!! Espectáculos de circo de nuestras cías socias\, de otros años y nuevas\, para todos los públicos\, a la gorra! Que corra la voz que comiencen las artes y espectáculos de calle a llenar Alboraya y todo el mundo de circo\, risa\, acrobacias y diversión! Nos vemos!! Pasen y vean. \n\n\n\nL’AVC inaugura el diumenge 22 de febrer a les 12.00 en la Plaça del Carmen d’Alboraia la primera edició del Circuit de Circ de Carrer d’Alboraia!! Espectacles de circ de les nostres cías sòcies\, d’altres anys i noves\, per a tots els públics\, a la gorra! Que córrega la veu que comencen les arts i espectacles de carrer a omplir Alboraia i tothom de circ\, riure\, acrobàcies i diversió! Ens veiem!! Passen i vegen \n\n\n\n\n\n\n\n#circodecalle #circovalencia #espectacledecirc #grancabaret #alboraia
URL:https://au-agenda.com/evento/cabaret-circuito-de-circo-de-calle-de-alboraia/
LOCATION:Pl. del Carme (Alboraia)\, Pl. del Carme\, Alboraia
CATEGORIES:Circo
ATTACH;FMTTYPE=image/jpeg:https://au-agenda.com/wp-content/uploads/2026/02/GRAN-CABARET.jpg
ORGANIZER;CN="Associaci&ograve%3B Valenciana de Circ":MAILTO:espaidecirc@gmail.com
END:VEVENT
END:VCALENDAR