BEGIN:VCALENDAR
VERSION:2.0
PRODID:-//AU Schedule - ECPv6.9.0//NONSGML v1.0//EN
CALSCALE:GREGORIAN
METHOD:PUBLISH
X-WR-CALNAME:AU Agenda
X-ORIGINAL-URL:https://au-agenda.com
X-WR-CALDESC:Events for AU Schedule
REFRESH-INTERVAL;VALUE=DURATION:PT1H
X-Robots-Tag:noindex
X-PUBLISHED-TTL:PT1H
BEGIN:VTIMEZONE
TZID:Europe/Madrid
BEGIN:DAYLIGHT
TZOFFSETFROM:+0100
TZOFFSETTO:+0200
TZNAME:CEST
DTSTART:20260329T010000
END:DAYLIGHT
BEGIN:STANDARD
TZOFFSETFROM:+0200
TZOFFSETTO:+0100
TZNAME:CET
DTSTART:20261025T010000
END:STANDARD
END:VTIMEZONE
BEGIN:VEVENT
DTSTART;TZID=Europe/Madrid:20260314T220000
DTEND;TZID=Europe/Madrid:20260314T220000
DTSTAMP:20260420T040752
CREATED:20260222T111521Z
LAST-MODIFIED:20260222T111521Z
UID:308903-1773525600-1773525600@au-agenda.com
SUMMARY:Boletus + Las Novias de Aarón
DESCRIPTION:Boletus writes songs from the couch to play them standing up. Amor adolescente\, crystalline pop and music to wait for the bus. Imprimen sus canciones a todo color\, con un sonido guitarrero y otoñal\, aunque no sean setas de verdad.\n\nLas Novias de Aarón\, un grupo de amigos de la uni con delirios de grandeza empiezan a juntarse en lugares cuyo nombre no quiero acordarme para narrar historias aporreando una guitarra. Tras dos años de maduración por distintas salas salió su primer single “Locos por el frisbi”\, con el que no se colocan en las playlist de indie más grandes del país\, ni en las más pequeñas. Actualmente no buscan ganarse un hueco en la escena española\, pero siguen pasándolo en grande compartiendo y mimando su original propuesta.
URL:https://au-agenda.com/evento/boletus-las-novias-de-aaron/
LOCATION:Radio City\, C/ SANTA TERESA\, 19 BAJO\, VALENCIA\, 46001\, España
CATEGORIES:Música
END:VEVENT
END:VCALENDAR