BEGIN:VCALENDAR
VERSION:2.0
PRODID:-//AU Schedule - ECPv6.9.0//NONSGML v1.0//EN
CALSCALE:GREGORIAN
METHOD:PUBLISH
X-WR-CALNAME:AU Agenda
X-ORIGINAL-URL:https://au-agenda.com
X-WR-CALDESC:Events for AU Schedule
REFRESH-INTERVAL;VALUE=DURATION:PT1H
X-Robots-Tag:noindex
X-PUBLISHED-TTL:PT1H
BEGIN:VTIMEZONE
TZID:Europe/Madrid
BEGIN:DAYLIGHT
TZOFFSETFROM:+0100
TZOFFSETTO:+0200
TZNAME:CEST
DTSTART:20250330T010000
END:DAYLIGHT
BEGIN:STANDARD
TZOFFSETFROM:+0200
TZOFFSETTO:+0100
TZNAME:CET
DTSTART:20251026T010000
END:STANDARD
END:VTIMEZONE
BEGIN:VEVENT
DTSTART;TZID=Europe/Madrid:20251213T223000
DTEND;TZID=Europe/Madrid:20251213T223000
DTSTAMP:20260420T134043
CREATED:20251123T075804Z
LAST-MODIFIED:20251123T075804Z
UID:298915-1765665000-1765665000@au-agenda.com
SUMMARY:Arnau Soler: "I'm not in the mood"
DESCRIPTION:How is a comedian in the second before going on stage?? ¿Feliz? Sad? Nada de eso importa en cuanto suba el telón\, the lights come on and the show begins. Aunque no esté de humor\, Arnau Soler presenta este show en el que ideas y anécdotas hacen que el público\, lose track of time between laughter. “No estoy de humor” es un show cercano y sincero\, that will surely make you cry with laughter for an hour and a half. Disfruta del show en Teatro La Protectora.
URL:https://au-agenda.com/evento/arnau-soler-no-estoy-de-humor-2/
LOCATION:La Protectora\, C/ de Maximilià Thous\, 6. La Saïdia\, València\, València\, 46009\, España
CATEGORIES:Monólogo
END:VEVENT
END:VCALENDAR