BEGIN:VCALENDAR
VERSION:2.0
PRODID:-//AU Agenda - ECPv6.9.0//NONSGML v1.0//EN
CALSCALE:GREGORIAN
METHOD:PUBLISH
X-WR-CALNAME:AU Agenda
X-ORIGINAL-URL:https://au-agenda.com
X-WR-CALDESC:Eventos para AU Agenda
REFRESH-INTERVAL;VALUE=DURATION:PT1H
X-Robots-Tag:noindex
X-PUBLISHED-TTL:PT1H
BEGIN:VTIMEZONE
TZID:Europe/Madrid
BEGIN:DAYLIGHT
TZOFFSETFROM:+0100
TZOFFSETTO:+0200
TZNAME:CEST
DTSTART:20260329T010000
END:DAYLIGHT
BEGIN:STANDARD
TZOFFSETFROM:+0200
TZOFFSETTO:+0100
TZNAME:CET
DTSTART:20261025T010000
END:STANDARD
END:VTIMEZONE
BEGIN:VEVENT
DTSTART;TZID=Europe/Madrid:20260418T203000
DTEND;TZID=Europe/Madrid:20260418T203000
DTSTAMP:20260420T162811
CREATED:20260408T080259Z
LAST-MODIFIED:20260408T080259Z
UID:313451-1776544200-1776544200@au-agenda.com
SUMMARY:Alejandro i María Laura en concierto
DESCRIPTION:Amb l’ànim d’abraçar la transdisciplinarietat de les arts i entendre que els museus del segle XXI són espais per a l’experimentació i la creació contemporània\, entesa de manera àmplia\, naix Posar la veu\, un cicle mensual de concerts que activen l’hall de l’IVAM com a espai per a propostes de caràcter intimista i d’experimentació. \nFruit de la col·laboració interinstitucional amb la Subdirecció de Música del Insitut Valencià de Cultura\, s’articula esta nova proposta a la ciutat on\, la veu\, la seua presència\, la seua experimentació i innovació sonora és el centre i excusa que servirà per a detonar espais plurals que se centren ella. \nEnèrgiques\, vivaces\, dinàmiques. Les cançons d’Alejandro Rivas i María Laura Bustamante\, coneguts com a Alejandro i María Laura\, són un bàlsam davant el frenesí de la vida. Són xicotetes celebracions en les quals mostren el seu inconformisme enfront de les estructures rígides de la rutina\, senzills temes\, en aparença\, que insuflen l’ànim necessari davant els reptes diaris. Exploradors inquiets\, nostàlgics\, la seua música és un mestissatge de ritmes indie i pop amb un lleuger toc folklòric\, generant un naturalisme bucòlic únic i genuí. Romàntics\, al mateix temps que reflexius\, el duo peruà oferix una música que revitalitza la ment gràcies a les seues veus càndides\, xicotets alens d’una realitat onírica que enamora.
URL:https://au-agenda.com/evento/alejandro-i-maria-laura-en-concierto/
LOCATION:IVAM\, / de Guillem de Castro\, 118\, València\, Valencia\, 46003\, España
CATEGORIES:Música
END:VEVENT
END:VCALENDAR