BEGIN:VCALENDAR
VERSION:2.0
PRODID:-//AU Agenda - ECPv6.9.0//NONSGML v1.0//EN
CALSCALE:GREGORIAN
METHOD:PUBLISH
X-WR-CALNAME:AU Agenda
X-ORIGINAL-URL:https://au-agenda.com
X-WR-CALDESC:Eventos para AU Agenda
REFRESH-INTERVAL;VALUE=DURATION:PT1H
X-Robots-Tag:noindex
X-PUBLISHED-TTL:PT1H
BEGIN:VTIMEZONE
TZID:Europe/Madrid
BEGIN:DAYLIGHT
TZOFFSETFROM:+0100
TZOFFSETTO:+0200
TZNAME:CEST
DTSTART:20260329T010000
END:DAYLIGHT
BEGIN:STANDARD
TZOFFSETFROM:+0200
TZOFFSETTO:+0100
TZNAME:CET
DTSTART:20261025T010000
END:STANDARD
END:VTIMEZONE
BEGIN:VEVENT
DTSTART;TZID=Europe/Madrid:20260305T100000
DTEND;TZID=Europe/Madrid:20260503T200000
DTSTAMP:20260426T013346
CREATED:20260305T072744Z
LAST-MODIFIED:20260305T072744Z
UID:309968-1772704800-1777838400@au-agenda.com
SUMMARY:175 anys al cor de València
DESCRIPTION:La exposición 175 anys al cor de València celebra el nacimiento y la evolución de la Escola d’Art i Superior de Disseny de València\, institución clave en la vida cultural de la ciudad. Con más de un centenar de obras\, la muestra recorre 175 años de historia en el mismo edificio donde surgió en 1850 la antigua Escuela de Artes y Oficios (actual Centre del Carme Cultura Contemporània)\, creada para mejorar la artesanía valenciana. \nDurante más de cien años\, la institución formó a miles de estudiantes en artes aplicadas y oficios artísticos\, contribuyendo al desarrollo industrial de la ciudad. Desde los años sesenta del pasado siglo XX incorporó estudios innovadores como diseño de interiores\, diseño gráfico\, moda\, diseño de producto\, fotografía y joyería\, consolidándose como referente en renovación pedagógica e internacionalización. \nLa exposición\, conformada únicamente con trabajos de exalumnado de la EASD\, conecta pasado y futuro\, reivindicando el legado patrimonial y celebrando los retos y oportunidades que afronta la enseñanza del diseño en el siglo XXI.
URL:https://au-agenda.com/evento/175-anys-al-cor-de-valencia/
LOCATION:Centre del Carme\, Museu\, 2\, Valencia\, Valencia\, 46001\, España
CATEGORIES:Exposiciones
ATTACH;FMTTYPE=image/jpeg:https://au-agenda.com/wp-content/uploads/2026/03/CCCC_175aniversarioEASD-37.jpg
END:VEVENT
END:VCALENDAR