BEGIN:VCALENDAR
VERSION:2.0
PRODID:-//AU Schedule - ECPv6.9.0//NONSGML v1.0//EN
CALSCALE:GREGORIAN
METHOD:PUBLISH
X-WR-CALNAME:AU Agenda
X-ORIGINAL-URL:https://au-agenda.com
X-WR-CALDESC:Events for AU Schedule
REFRESH-INTERVAL;VALUE=DURATION:PT1H
X-Robots-Tag:noindex
X-PUBLISHED-TTL:PT1H
BEGIN:VTIMEZONE
TZID:Europe/Madrid
BEGIN:DAYLIGHT
TZOFFSETFROM:+0100
TZOFFSETTO:+0200
TZNAME:CEST
DTSTART:20260329T010000
END:DAYLIGHT
BEGIN:STANDARD
TZOFFSETFROM:+0200
TZOFFSETTO:+0100
TZNAME:CET
DTSTART:20261025T010000
END:STANDARD
END:VTIMEZONE
BEGIN:VEVENT
DTSTART;TZID=Europe/Madrid:20260303T190000
DTEND;TZID=Europe/Madrid:20260303T190000
DTSTAMP:20260421T124832
CREATED:20251220T115243Z
LAST-MODIFIED:20251220T115243Z
UID:302347-1772564400-1772564400@au-agenda.com
SUMMARY:16 Black Tuesday: “Silencio administrativo” de Sara Mesa
DESCRIPTION:En esta 16º Edición de nuestras tertulias literarias sobre los Derechos Humanos\, Los Martes Negros de Amnistía Internacional\, We are going to put our magnifying glass on the violation that poverty and inequality entail in the aspiration towards a dignified and more just life for “all” people. To do this, we encourage you to know and analyze this catalog of books that lead us to reflect on poverty and inequality and that will be the protagonists of this edition of the gatherings and that you can get at the “Cosecha Roja” bookstore at the Sporting Club de Russafa in Valencia.. \n3 de marzo de 2026: “SILENCIO ADMINISTRATIVO” DE SARA MESA\nLa obra contiene un relato y una crónica. La autora\, Sara Mesa\, es escritora y periodista\, something that is especially detected in “Administrative Silence”. Narra la penosa aventura de Beatriz que\, en su pretensión de conseguir una prestación económica mínima para Carmen\, una mujer enferma y sin hogar\, discovers a complex bureaucratic labyrinth impossible to manage for a person without a home and without material resources (teléfono\, Internet access). Beatriz describes the obstacles that the Administration places for the most disadvantaged to obtain assistance benefits such as the IMV (minimum vital income). La crónica periodística que se entrelaza con el relato\, contiene datos facilitados por informes institucionales y ONG\, que corroboran que el proceso es kafkiano\, por enrevesado\, slow and ineffective. Especialmente para las personas sin hogar\, the most vulnerable. A partir de la historia que la autora vive con Carmen\, detects the social reality of the rejection of the poor. La aporofobia\, que acuñó Adela Cortina\, It manifests itself in ruthless criticism that goes so far as to describe the poor as lazy or taking advantage of the system..
URL:https://au-agenda.com/evento/16-dimarts-negres-silencio-administrativo-de-sara-mesa/
LOCATION:Sporting Club Russafa\, Sevilla\, 5\, Valencia\, Valencia\, 46004\, España
CATEGORIES:Altres
ATTACH;FMTTYPE=image/jpeg:https://au-agenda.com/wp-content/uploads/2025/12/Cartel-prog.-Martes-Negros.jpg
END:VEVENT
END:VCALENDAR