BEGIN:VCALENDAR
VERSION:2.0
PRODID:-//AU Agenda - ECPv6.9.0//NONSGML v1.0//EN
CALSCALE:GREGORIAN
METHOD:PUBLISH
X-WR-CALNAME:AU Agenda
X-ORIGINAL-URL:https://au-agenda.com
X-WR-CALDESC:Eventos para AU Agenda
REFRESH-INTERVAL;VALUE=DURATION:PT1H
X-Robots-Tag:noindex
X-PUBLISHED-TTL:PT1H
BEGIN:VTIMEZONE
TZID:Europe/Madrid
BEGIN:DAYLIGHT
TZOFFSETFROM:+0100
TZOFFSETTO:+0200
TZNAME:CEST
DTSTART:20260329T010000
END:DAYLIGHT
BEGIN:STANDARD
TZOFFSETFROM:+0200
TZOFFSETTO:+0100
TZNAME:CET
DTSTART:20261025T010000
END:STANDARD
END:VTIMEZONE
BEGIN:VEVENT
DTSTART;TZID=Europe/Madrid:20260602T190000
DTEND;TZID=Europe/Madrid:20260602T190000
DTSTAMP:20260421T065227
CREATED:20251220T115547Z
LAST-MODIFIED:20251220T115547Z
UID:302350-1780426800-1780426800@au-agenda.com
SUMMARY:16 Dimarts Negres: “Pobre: una vida de lucha por un destino mejor” de Katriona O'Sullivan
DESCRIPTION:En esta 16º Edición de nuestras tertulias literarias sobre los Derechos Humanos\, Los Martes Negros de Amnistía Internacional\, vamos a poner nuestra lupa en la vulneración que supone la pobreza y la desigualdad en la aspiración hacia una vida digna y más justa para “todas” las personas. Para ello os animamos a conocer y analizar este catálogo de libros que nos inducen a reflexionar sobre la pobreza y la desigualdad y que serán los protagonistas de esta edición de las tertulias y que podéis conseguir en la librería “Cosecha Roja” en el Sporting Club de Russafa de Valencia. \n2 de junio de 2026: POBRE: UNA VIDA DE LUCHA POR UN DESTINO MEJOR. DE KATRIONA 0’SULLIVAN\n«La pobreza está en todas partes y va en aumento\, si miras a otro lado estás siendo cómplice»\, subraya la escritora\, que hace hincapié en el enorme coste social que tiene\, debido a su impacto directo en la delincuencia\, las adicciones o la salud mental. También insiste en que trabajar para combatirla no es una cuestión de «caridad» sino de «justicia y excelencia». La autora Katriona O’Sullivan\, novela en Pobre su infancia y juventud sumergidas en la pobreza\, el abandono y las drogas que arrasaron su casa. Desafía ese destino marcado por unas cartas malas\, las cartas de los vulnerables\, de los que pasan hambre. De ese camino recorrido de supervivencia\, aprendizaje y autodescubrimiento\, Katriona logra\, a través de la lectura\, gracias a algunos maestros\, a algunas personas\, acceder a la universidad hasta llegar al doctorado en psicología.  \nKatriona O’Sullivan utiliza su historia personal como punto de partida ya que considera que visibilizar estos relatos puede contribuir a comprender la complejidad de la pobreza y a desarrollar políticas más inclusivas. Pobre no solo reconstruye una historia de vida difícil\, sino que cuestiona los discursos oficiales sobre mérito\, movilidad social y oportunidades reales. Para ella lo peor no fueron los abusos\, ni siquiera la violación\, fue darse cuenta de que podía haber sido salvada\, pero quienes tenían esa responsabilidad\, no lo hicieron.\n«POBRE» es una llamada a la empatía y a la acción\, y una manifestación del poder que tiene la literatura para inspirar la transformación social. No es solo un libro sobre la miseria\, sino una celebración de la vida y la capacidad del ser humano para encontrar luz y propósito en medio de la oscuridad.
URL:https://au-agenda.com/evento/16-dimarts-negres-pobre-una-vida-de-lucha-por-un-destino-mejor-de-katriona-osullivan/
LOCATION:Sporting Club Russafa\, Sevilla\, 5\, Valencia\, Valencia\, 46004\, España
CATEGORIES:Altres
ATTACH;FMTTYPE=image/jpeg:https://au-agenda.com/wp-content/uploads/2025/12/Cartel-prog.-Martes-Negros.jpg
END:VEVENT
END:VCALENDAR