BEGIN:VCALENDAR
VERSION:2.0
PRODID:-//AU Schedule - ECPv6.9.0//NONSGML v1.0//EN
CALSCALE:GREGORIAN
METHOD:PUBLISH
X-WR-CALNAME:AU Agenda
X-ORIGINAL-URL:https://au-agenda.com
X-WR-CALDESC:Events for AU Schedule
REFRESH-INTERVAL;VALUE=DURATION:PT1H
X-Robots-Tag:noindex
X-PUBLISHED-TTL:PT1H
BEGIN:VTIMEZONE
TZID:Europe/Madrid
BEGIN:DAYLIGHT
TZOFFSETFROM:+0100
TZOFFSETTO:+0200
TZNAME:CEST
DTSTART:20260329T010000
END:DAYLIGHT
BEGIN:STANDARD
TZOFFSETFROM:+0200
TZOFFSETTO:+0100
TZNAME:CET
DTSTART:20261025T010000
END:STANDARD
END:VTIMEZONE
BEGIN:VEVENT
DTSTART;TZID=Europe/Madrid:20260331T190000
DTEND;TZID=Europe/Madrid:20260331T190000
DTSTAMP:20260421T051143
CREATED:20251220T115336Z
LAST-MODIFIED:20251220T115336Z
UID:302348-1774983600-1774983600@au-agenda.com
SUMMARY:16 Black Tuesday: “La meravellosa botiga de la senyora Yeom” de Juan Goitisolo
DESCRIPTION:En esta 16º Edición de nuestras tertulias literarias sobre los Derechos Humanos\, Los Martes Negros de Amnistía Internacional\, We are going to put our magnifying glass on the violation that poverty and inequality entail in the aspiration towards a dignified and more just life for “all” people. To do this, we encourage you to know and analyze this catalog of books that lead us to reflect on poverty and inequality and that will be the protagonists of this edition of the gatherings and that you can get at the “Cosecha Roja” bookstore at the Sporting Club de Russafa in Valencia.. \n31 de marzo de 2026: “LA MERAVELLOSA BOTIGA DE LA SENYORA YEOM” DE HO YEON KIM\nEl libro trata de Dokgo\, a person who lives on the street and sleeps at Seoul station. Tiempo atrás tenía un trabajo\, una casa\, una familia\, but one day he lost everything. Even the memory. Cuando encuentra un monedero\, decide entregárselo a su dueña\, la señora Yeom\, a middle-aged former teacher who runs a small twenty-four-hour store. Para agradecérselo\, The woman invites him to eat whenever he wants at her place and not only that.: ante la necesidad de cubrir una vacante en el turno de noche\, offers him the job. Gracias a su nuevo puesto\, Dokgo\, una persona torpe a veces\, silencioso otras\, start helping many people in the neighborhood. Contact with others will help you regain your memory and a new reason to live..
URL:https://au-agenda.com/evento/16-dimarts-negres-la-meravellosa-botiga-de-la-senyora-yeom-de-juan-goitisolo/
LOCATION:Sporting Club Russafa\, Sevilla\, 5\, Valencia\, Valencia\, 46004\, España
CATEGORIES:Altres
ATTACH;FMTTYPE=image/jpeg:https://au-agenda.com/wp-content/uploads/2025/12/Cartel-prog.-Martes-Negros.jpg
END:VEVENT
END:VCALENDAR